BEGIN:VCALENDAR
VERSION:2.0
PRODID:-//eventon.com NONSGML v1.0//EN
CALSCALE:GREGORIAN
METHOD:PUBLISH
BEGIN:VEVENT
UID:69e76d8482e31
DTSTAMP:20260421T122852Z
DTSTART:20260424T173000Z
DTEND:20260424T193000Z
LOCATION:LiZ Fricktal Obertorplatz 7\,  4310 Rheinfelden
SUMMARY:Frauenkreis Schweiz
DESCRIPTION:Verbindung. Tiefe. Weibliche Kraft. Wenn wir Frauen uns verbind
 en\,  entsteht etwas Wundervolles – ein Raum voller Vertrauen\,  Präsenz
  und Herzenergie. Im Frauenkreis Schweiz öffne ich Räume\,  in denen du a
 nkommen\,  loslassen und auftanken darfst.Wir meditieren\,  atmen\,  teilen
 \,  tanzen\,  lachen oder sind einfach still – so\,  wie es im Moment sti
 mmig[..]\nhttps://www.arweniel.ch/seminare/frauenkreis-schweiz-2603/
URL:https://www.arweniel.ch/seminare/frauenkreis-schweiz-2603/
END:VEVENT
END:VCALENDAR