BEGIN:VCALENDAR
VERSION:2.0
PRODID:-//eventon.com NONSGML v1.0//EN
CALSCALE:GREGORIAN
METHOD:PUBLISH
BEGIN:VEVENT
UID:69e76f9c79580
DTSTAMP:20260421T123748Z
DTSTART:20260613T090000Z
DTEND:20260613T130000Z
LOCATION:LiZ Fricktal Obertorplatz 7\,  4310 Rheinfelden
SUMMARY:Breathwork mit Cacao - Gruppensession Spezial
DESCRIPTION:Eine tiefgehende Atemreise zu dir selbst In dieser besonderen S
 ession verbinden sich Breathwork und zeremonieller Cacao zu einer kraftvoll
 en Erfahrung der Selbstbegegnung. Der Cacao öffnet sanft dein Herz und unt
 erstützt dich dabei\,  dich tiefer auf deinen Atem und deine innere Reise 
 einzulassen. Durch den verbundenen Atem\,  Musik und achtsame Begleitung[..
 ]\nhttps://www.arweniel.ch/seminare/breathwork-cacao-gruppensession/
URL:https://www.arweniel.ch/seminare/breathwork-cacao-gruppensession/
END:VEVENT
END:VCALENDAR