BEGIN:VCALENDAR
VERSION:2.0
PRODID:-//eventon.com NONSGML v1.0//EN
CALSCALE:GREGORIAN
METHOD:PUBLISH
BEGIN:VEVENT
UID:69e76b36406b0
DTSTAMP:20260421T121902Z
DTSTART:20270211T140000Z
DTEND:20270214T140000Z
LOCATION:LiZ Fricktal Obertorplatz 7\,  4310 Rheinfelden
SUMMARY:SoulSisters - Die Ausbildung zur Frauenkreisleiterin 2026/27 2
DESCRIPTION:Vertiefung &amp; weibliche Urkraft Dieses Seminar ist ausschlie
 sslich für die Teilnehmerinnen der Ausbildung zur Frauenkreisleiterin 2026
 /27. Offlineseminar 2 von 2 in Rheinfelden\,  CH. Im zweiten Intensivsemina
 r tauchen wir tiefer in deine Verbindung zu dir selbst und in deine Rolle a
 ls Frauenkreisleiterin ein. Ein zentraler Bestandteil dieser Tage ist die M
 editation[..]\nhttps://www.arweniel.ch/seminare/soulsisters-die-ausbildung-
 zur-frauenkreisleiterin-2026-27-2/
URL:https://www.arweniel.ch/seminare/soulsisters-die-ausbildung-zur-frauenkreisleiterin-2026-27-2/
END:VEVENT
END:VCALENDAR