BEGIN:VCALENDAR
VERSION:2.0
PRODID:-//eventon.com NONSGML v1.0//EN
CALSCALE:GREGORIAN
METHOD:PUBLISH
BEGIN:VEVENT
UID:69e76e9245aab
DTSTAMP:20260421T123322Z
DTSTART:20261105T140000Z
DTEND:20261108T140000Z
LOCATION:LiZ Fricktal Obertorplatz 7\,  4310 Rheinfelden
SUMMARY:SoulSisters - Die Ausbildung zur Frauenkreisleiterin 2026/27 1
DESCRIPTION:Der Beginn deiner Reise als Frauenkreisleiterin Dieses Seminar 
 ist ausschliesslich für die Teilnehmerinnen der Ausbildung zur Frauenkreis
 leiterin 2026/27. Offlineseminar 1 von 2 in Rheinfelden\,  CH. Dieses erste
  Seminar ist mehr als nur ein Start.Es ist ein Eintauchen in einen Raum\,  
 den viele Frauen lange vermisst haben: einen Raum\,  in dem[..]\nhttps://ww
 w.arweniel.ch/seminare/soulsisters-die-ausbildung-zur-frauenkreisleiterin-2
 026-27-1/
URL:https://www.arweniel.ch/seminare/soulsisters-die-ausbildung-zur-frauenkreisleiterin-2026-27-1/
END:VEVENT
END:VCALENDAR