BEGIN:VCALENDAR
VERSION:2.0
PRODID:-//eventon.com NONSGML v1.0//EN
CALSCALE:GREGORIAN
METHOD:PUBLISH
BEGIN:VEVENT
UID:69e76dc17524e
DTSTAMP:20260421T122953Z
DTSTART:20261119T130000Z
DTEND:20261122T130000Z
LOCATION:Seminarhof Gurprasad Hinterschweinhöf 39\,  88179 Oberreute\,  Deutschland
SUMMARY:Selbstbegegnungsretreat für Frauen
DESCRIPTION:Selbstbegegnungsretreat für Frauen 19.–22. November 2026 | S
 eminarhaus Gurprasad\,  Allgäu Manchmal braucht es Rückzugsorte. Für uns
 . Für unser Inneres. Für unseren Weg. Viele Jahre lang habe ich in der Sc
 hweiz und in Österreich die Begegnungstage der weiblichen Schöpfungskraft
  gehalten. Diese Räume waren magisch. Tief berührend. Bewegend. Danach fo
 lgte eine Pause.[..]\nhttps://www.arweniel.ch/seminare/selbstbegegnungsretr
 eat/
URL:https://www.arweniel.ch/seminare/selbstbegegnungsretreat/
END:VEVENT
END:VCALENDAR