BEGIN:VCALENDAR
VERSION:2.0
PRODID:-//eventon.com NONSGML v1.0//EN
CALSCALE:GREGORIAN
METHOD:PUBLISH
BEGIN:VEVENT
UID:69e76c72da4b6
DTSTAMP:20260421T122418Z
DTSTART:20270316T160000Z
DTEND:20270321T140000Z
LOCATION:Seminarhof Gurprasad Hinterschweinhöf 39\,  88179 Oberreute\,  Deutschland
SUMMARY:Retreat 3 | Die Ausbildung zur Frauenbegleiterin 2025/27
DESCRIPTION:Praxisteil Birth &amp; Growing Dieses Retreat ist ausschliessli
 ch für die Teilnehmerinnen der Ausbildung zur Frauenbegleiterin 2025/27. R
 etreat mit 5 Übernachtungen im gemütlichen Seminarhof Gurprasad im deuts
 chen Allgäu In diesem Retreat tauchen wir in die Vertiefung von allem Erle
 rnten der vergangenen Monate ein und verbinden Theorie mit Praxis. Annina D
 iebold begleitet uns[..]\nhttps://www.arweniel.ch/seminare/retreat-3-die-au
 sbildung-zur-frauenbegleiterin-2025-27/
URL:https://www.arweniel.ch/seminare/retreat-3-die-ausbildung-zur-frauenbegleiterin-2025-27/
END:VEVENT
END:VCALENDAR