BEGIN:VCALENDAR
VERSION:2.0
PRODID:-//eventon.com NONSGML v1.0//EN
CALSCALE:GREGORIAN
METHOD:PUBLISH
BEGIN:VEVENT
UID:69e771121fe9b
DTSTAMP:20260421T124402Z
DTSTART:20260908T150000Z
DTEND:20260913T130000Z
LOCATION:Seminarhof Gurprasad Hinterschweinhöf 39\,  88179 Oberreute\,  Deutschland
SUMMARY:Retreat 2 | Die Ausbildung zur Frauenbegleiterin 2025/27
DESCRIPTION:Praxisteil Die Kraft der Weiblichkeit Dieses Retreat ist aussch
 liesslich für die Teilnehmerinnen der Ausbildung zur Frauenbegleiterin 202
 5/27. Retreat mit 5 Übernachtungen im gemütlichen Seminarhof Gurprasad i
 m deutschen Allgäu In diesem Retreat tauchen wir in die Vertiefung von all
 em Erlernten der vergangenen Monate ein und verbinden Theorie mit Praxis. J
 acqueline Kalberer wird[..]\nhttps://www.arweniel.ch/seminare/retreat-2-die
 -ausbildung-zur-frauenbegleiterin-2025-27/
URL:https://www.arweniel.ch/seminare/retreat-2-die-ausbildung-zur-frauenbegleiterin-2025-27/
END:VEVENT
END:VCALENDAR