BEGIN:VCALENDAR
VERSION:2.0
PRODID:-//eventon.com NONSGML v1.0//EN
CALSCALE:GREGORIAN
METHOD:PUBLISH
BEGIN:VEVENT
UID:69e76cca3196b
DTSTAMP:20260421T122546Z
DTSTART:20261022T120000Z
DTEND:20261025T130000Z
LOCATION:Seminarhof Gurprasad Hinterschweinhöf 39\,  88179 Oberreute\,  Deutschland
SUMMARY:Breathwork Retreat 2026
DESCRIPTION:AHNEN &amp; DIE LEBEN DAVOR Eine Atemreise zu deinen Wurzeln\, 
  deiner Seele und den Geschichten davor.  Do 22. bis So 25. Oktober 2026 H
 ast du dir schon einmal Gedanken darüber gemacht\,  wie dich deine Ahnen g
 eprägt haben – oder es vielleicht noch immer tun? Nicht nur genetisch\, 
  sondern auch durch[..]\nhttps://www.arweniel.ch/seminare/breathwork-retrea
 t-2026/
URL:https://www.arweniel.ch/seminare/breathwork-retreat-2026/
END:VEVENT
END:VCALENDAR